BEGIN:VCALENDAR
VERSION:2.0
PRODID:-//wp-events-plugin.com//7.0.5//EN
TZID:America/Los_Angeles
X-WR-TIMEZONE:America/Los_Angeles
BEGIN:VEVENT
UID:5269@soulbodyojai.com
DTSTART;TZID=America/Los_Angeles:20250822T090000
DTEND;TZID=America/Los_Angeles:20250822T113000
DTSTAMP:20250417T162517Z
URL:https://www.soulbodyojai.com/events/gong-basics-training-in-person-onl
 y/
SUMMARY:Gong Basics Training: In Person Only
DESCRIPTION:Gong Playing Basics\n9-11:30 am Friday\n$75\n\nAn introductory 
 class for students with little or no gong playing experience who wish to t
 ake the Master Gong Practitioner course offered this weekend.\n\nPractical
  hands-on training in in using mallets to play different gongs with perso
 nal supervision and one-on-one instruction.
ATTACH;FMTTYPE=image/jpeg:https://www.soulbodyojai.com/wp-content/uploads/
 2019/05/Taragong.jpg
CATEGORIES:Newsletter
LOCATION:Soul Body Ojai - 206 N. Signal St. Suite M\, Ojai\, California ( C
 A )\, 93023
GEO:34.4493771;-119.24592560000002
X-APPLE-STRUCTURED-LOCATION;VALUE=URI;X-ADDRESS=206 N. Signal St. Suite M\,
  Ojai\, California ( CA )\, 93023\, United States;X-APPLE-RADIUS=100;X-TIT
 LE=Soul Body Ojai:geo:34.4493771,-119.24592560000002
END:VEVENT
BEGIN:VTIMEZONE
TZID:America/Los_Angeles
X-LIC-LOCATION:America/Los_Angeles
BEGIN:DAYLIGHT
DTSTART:20250309T030000
TZOFFSETFROM:-0800
TZOFFSETTO:-0700
TZNAME:PDT
END:DAYLIGHT
END:VTIMEZONE
END:VCALENDAR