BEGIN:VCALENDAR
VERSION:2.0
PRODID:-//wp-events-plugin.com//7.0.5//EN
TZID:America/Los_Angeles
X-WR-TIMEZONE:America/Los_Angeles
BEGIN:VEVENT
UID:5330@soulbodyojai.com
DTSTART;TZID=America/Los_Angeles:20261016T090000
DTEND;TZID=America/Los_Angeles:20261018T150000
DTSTAMP:20260327T153816Z
URL:https://www.soulbodyojai.com/events/lifecycles-lifestyles-online/
SUMMARY:Lifecycles & Lifestyles – Online and In Person
DESCRIPTION:LIFECYCLES &amp\; LIFESTYLES \nKundalini Yoga Level 2 Course\n
 Online or In-Person in Ojai\, CA\nOctober 16-18 and November 13-15\n(9am-3
 pm PST)\n\n\n\nLIFECYCLES &amp\; LIFESTYLES – Online is the course to h
 elp you understand the stages and cycles of your life and how you can crea
 te healthy habits to develop a spiritual lifestyle.\n\nIn this training yo
 u will explore and understand these areas of life:\n\n 	Early Childhood: R
 enewing Your Hidden Self-Concept\n 	Adolescence and the Cultivation of Pro
 moting Habits\n 	Prime Adulthood: Productivity\, Prosperity\, and Sharing\
 n 	Maturity and Midlife Crises: Transmitting Values and Legacy\n 	Elder Ye
 ars: Character\, Integrity and Merger\n\nUpon completion of this training\
 , you will be able to:\n\n 	Identify habits\, attitudes and practices that
  help or hinder your life in the present\, past\, and future.\n 	Examine a
 nd map out the stages and cycles of life.\n 	Learn to understand the natur
 e of death and learn to live fearlessly.\n 	Renew your self-concept by dis
 covering your purpose and destiny for living an extraordinary life.\n 	Get
  a sense of the entire cycle of destiny and meditate on all the cycles we 
 progress through.\n\nFor a complete virtual experience of this transformat
 ional training:\n\n 	The manual for the course will be available to you as
  an EBook or as a printed copy.\n 	Small groups are formed online for dail
 y breakout discussions and meet virtually after the course for 90 days.\n 
 	Classes are recorded for those who need to time shift or make-up missed h
 ours.\nLifecycles &amp\; Lifestyles – Online Tuition:\nPlease make a not
 e if you plan to attend in-person at Soul Body Ojai in California.\n\n$795
  Paid in Full\n$825 Payment Plan*:  $325 deposit + create your own paymen
 t schedule\n*Must select “DEPOSIT + Payment Plan” option for Payment T
 ype\n$825 Payment Plan\nSpecial Audit Price: $495 (for repeat students onl
 y)\n$495 Audit\n\nRefunds can be issued for requests received 30 days befo
 re the event begins.\nNo refunds can be issued for requests received less
  than 30 days before the event.\n(A 10% processing fee is deducted from al
 l refunded amounts.)\n\n\n\n\n
ATTACH;FMTTYPE=image/jpeg:https://www.soulbodyojai.com/wp-content/uploads/
 2026/03/Compressed.jpeg
CATEGORIES:Newsletter
LOCATION:https://yogimehtab.com/event/lifecycles-lifestyles-online/
END:VEVENT
BEGIN:VTIMEZONE
TZID:America/Los_Angeles
X-LIC-LOCATION:America/Los_Angeles
BEGIN:DAYLIGHT
DTSTART:20260308T030000
TZOFFSETFROM:-0800
TZOFFSETTO:-0700
TZNAME:PDT
END:DAYLIGHT
END:VTIMEZONE
END:VCALENDAR