BEGIN:VCALENDAR
VERSION:2.0
PRODID:-//wp-events-plugin.com//7.0.5//EN
TZID:America/Los_Angeles
X-WR-TIMEZONE:America/Los_Angeles
BEGIN:VEVENT
UID:5325@soulbodyojai.com
DTSTART;TZID=America/Los_Angeles:20260215T060000
DTEND;TZID=America/Los_Angeles:20260326T063000
DTSTAMP:20260204T205234Z
URL:https://www.soulbodyojai.com/events/meditation-everyday-40-day-practic
 e-releasing-fear-with-dani-liv-priya/
SUMMARY:Meditation Everyday 40 Day Practice : Releasing Fear with Dani Liv 
 Priya
DESCRIPTION:This 40-day meditation practice uses the Guru Gayatri Mantra 
 as a daily contemplative anchor to cultivate clarity\, protection\, and in
 ner guidance. Traditionally associated with illumination and right percept
 ion\, this mantra is used here to invite positive\, supportive energy wh
 ile gently bringing balance to subconscious patterns that no longer serve.
 \n\nThrough consistent repetition over 40 days\, the practice supports men
 tal steadiness\, emotional recalibration\, and a deepening connection to o
 ne’s inner teacher. Rather than forcing change\, the mantra works throug
 h rhythm\, devotion\, and continuity\, allowing insight and alignment to 
 unfold naturally over time.\n\nThis journey is an invitation to meet the s
 ubconscious with light\, patience\, and trust.
ATTACH;FMTTYPE=image/jpeg:https://www.soulbodyojai.com/wp-content/uploads/
 2026/02/Tribe-4-1.png
CATEGORIES:Soul Tribe Online
LOCATION:https://soultribeonline.com/meditation-everyday-40-day-practice
END:VEVENT
BEGIN:VTIMEZONE
TZID:America/Los_Angeles
X-LIC-LOCATION:America/Los_Angeles
BEGIN:STANDARD
DTSTART:20251102T010000
TZOFFSETFROM:-0700
TZOFFSETTO:-0800
TZNAME:PST
END:STANDARD
BEGIN:DAYLIGHT
DTSTART:20260308T030000
TZOFFSETFROM:-0800
TZOFFSETTO:-0700
TZNAME:PDT
END:DAYLIGHT
END:VTIMEZONE
END:VCALENDAR