BEGIN:VCALENDAR
VERSION:2.0
PRODID:-//wp-events-plugin.com//7.0.5//EN
TZID:America/Los_Angeles
X-WR-TIMEZONE:America/Los_Angeles
BEGIN:VEVENT
UID:5329@soulbodyojai.com
DTSTART;TZID=America/Los_Angeles:20260327T060000
DTEND;TZID=America/Los_Angeles:20260505T063000
DTSTAMP:20260303T165634Z
URL:https://www.soulbodyojai.com/events/meditation-everyday-mul-mantra-40-
 day-practice/
SUMMARY:Meditation Everyday: Mul Mantra 40 Day Practice
DESCRIPTION:Meditation Everyday Practice: Mul Mantra\n40 Days of Mul Mantra
 \nBeginning March 27\nLive Practice each morning at 6am PT on our online p
 ortal at soultribeonline.com\nThere is power in repetition.\nThere is powe
 r in discipline.\nAnd there is profound transformation in returning to the
  same sacred sound every day — regardless of mood\, circumstance\, or ou
 ter conditions.\nBeginning March 27\, we enter a 40-day Meditation Everyda
 y Practice centered on 11 recitations of the Mul Mantra.\nThe Mul Mantra 
 — the opening verse of the Siri Guru Granth Sahib — articulates the fu
 ndamental nature of consciousness: timeless\, creative\, without fear\, wi
 thout hatred\, self-existent.\nReciting it daily is not about performance 
 or perfection.It is about reorienting the mind.\nEach day\, through 11 rep
 etitions\, we imprint these qualities into the subconscious:\nTruth as ide
 ntity.Creativity as essence.Fearlessness as baseline.Compassion as express
 ion.\nWhy 40 days?\nIn yogic science\, 40 days establishes a new habit pat
 tern in the psyche. It creates a groove in the mind — a restructuring of
  mental rhythm. What begins as discipline becomes devotion. What begins as
  effort becomes steadiness.\nThis practice is simple:\n• 11 recitations 
 per day• Approximately 11 minutes• Same mantra\, every day• No compl
 exity — just consistency\nWhether you are new to mantra meditation or de
 epening an established practice\, this 40-day container offers structure\,
  accountability\, and collective resonance.\nYou may notice:\n• Greater 
 mental clarity• Emotional steadiness• Reduced reactivity• Increased 
 trust in your inner authority• A subtle but tangible sense of alignment\
 nThis is not a dramatic practice.It is a stabilizing one.\nAs we move thro
 ugh early spring — a season of renewal — we commit not to external rei
 nvention\, but to internal refinement.\nForty days.One mantra.A daily retu
 rn to Truth.\n\nUnderstanding the Mul Mantra\nThe Mul Mantra is the founda
 tional statement of consciousness within the Sikh tradition. It describes 
 the essential nature of reality — and\, by extension\, the true nature o
 f the self.\nWhile translations vary slightly\, the essence is as follows:
 \nIk OnkarThere is One Creative Reality.\nSat NamIts Name is Truth. Truth 
 is identity.\nKarta PurakhThe Creative Being — active\, generating\, exp
 ressing through all life.\nNirbhauWithout fear.\nNirvairWithout hatred or 
 enmity.\nAkal MuratTimeless form — beyond birth and death.\nAjuniUnborn.
 \nSaibhangSelf-existent. Self-illuminating.\nGur PrasadRealized through gr
 ace — through awakened awareness.\nWhen we recite the Mul Mantra daily\,
  we are not asking for something.We are reminding ourselves of something.\
 nWe are imprinting the psyche with the qualities of fearlessness\, neutral
 ity\, creativity\, and truth.\nOver 40 days\, repetition moves these words
  from intellectual understanding into embodied resonance.\nThe mantra begi
 ns as sound.It becomes identity.
ATTACH;FMTTYPE=image/jpeg:https://www.soulbodyojai.com/wp-content/uploads/
 2026/03/Screenshot-2026-03-02-at-8.47.09-AM.png
CATEGORIES:Newsletter
LOCATION:Soul Body Ojai - 206 N. Signal St. Suite M\, Ojai\, California ( C
 A )\, 93023
GEO:34.4493771;-119.24592560000002
X-APPLE-STRUCTURED-LOCATION;VALUE=URI;X-ADDRESS=206 N. Signal St. Suite M\,
  Ojai\, California ( CA )\, 93023\, United States;X-APPLE-RADIUS=100;X-TIT
 LE=Soul Body Ojai:geo:34.4493771,-119.24592560000002
END:VEVENT
BEGIN:VTIMEZONE
TZID:America/Los_Angeles
X-LIC-LOCATION:America/Los_Angeles
BEGIN:DAYLIGHT
DTSTART:20260308T030000
TZOFFSETFROM:-0800
TZOFFSETTO:-0700
TZNAME:PDT
END:DAYLIGHT
END:VTIMEZONE
END:VCALENDAR