BEGIN:VCALENDAR
VERSION:2.0
PRODID:-//wp-events-plugin.com//7.0.5//EN
TZID:America/Los_Angeles
X-WR-TIMEZONE:America/Los_Angeles
BEGIN:VEVENT
UID:5219@soulbodyojai.com
DTSTART;TZID=America/Los_Angeles:20240729T180000
DTEND;TZID=America/Los_Angeles:20240729T200000
DTSTAMP:20240627T012552Z
URL:https://www.soulbodyojai.com/events/womens-circle-with-aubrie-2/
SUMMARY:Women's Circle with Aubrie
DESCRIPTION:
ATTACH;FMTTYPE=image/jpeg:https://www.soulbodyojai.com/wp-content/uploads/
 2024/06/IMG_5574-1.jpg
CATEGORIES:Newsletter
LOCATION:Soul Body Ojai - 206 N. Signal St. Suite M\, Ojai\, California ( C
 A )\, 93023
GEO:34.4493771;-119.24592560000002
X-APPLE-STRUCTURED-LOCATION;VALUE=URI;X-ADDRESS=206 N. Signal St. Suite M\,
  Ojai\, California ( CA )\, 93023\, United States;X-APPLE-RADIUS=100;X-TIT
 LE=Soul Body Ojai:geo:34.4493771,-119.24592560000002
END:VEVENT
BEGIN:VTIMEZONE
TZID:America/Los_Angeles
X-LIC-LOCATION:America/Los_Angeles
BEGIN:DAYLIGHT
DTSTART:20240310T030000
TZOFFSETFROM:-0800
TZOFFSETTO:-0700
TZNAME:PDT
END:DAYLIGHT
END:VTIMEZONE
END:VCALENDAR